




BEGIN:VCALENDAR
VERSION:2.0
PRODID:-//Dural Club - ECPv6.15.16.1//NONSGML v1.0//EN
CALSCALE:GREGORIAN
METHOD:PUBLISH
X-ORIGINAL-URL:https://www.duralclub.com.au
X-WR-CALDESC:Events for Dural Club
REFRESH-INTERVAL;VALUE=DURATION:PT1H
X-Robots-Tag:noindex
X-PUBLISHED-TTL:PT1H
BEGIN:VTIMEZONE
TZID:Australia/Melbourne
BEGIN:STANDARD
TZOFFSETFROM:+1100
TZOFFSETTO:+1000
TZNAME:AEST
DTSTART:20250405T160000
END:STANDARD
BEGIN:DAYLIGHT
TZOFFSETFROM:+1000
TZOFFSETTO:+1100
TZNAME:AEDT
DTSTART:20251004T160000
END:DAYLIGHT
BEGIN:STANDARD
TZOFFSETFROM:+1100
TZOFFSETTO:+1000
TZNAME:AEST
DTSTART:20260404T160000
END:STANDARD
BEGIN:DAYLIGHT
TZOFFSETFROM:+1000
TZOFFSETTO:+1100
TZNAME:AEDT
DTSTART:20261003T160000
END:DAYLIGHT
BEGIN:STANDARD
TZOFFSETFROM:+1100
TZOFFSETTO:+1000
TZNAME:AEST
DTSTART:20270403T160000
END:STANDARD
BEGIN:DAYLIGHT
TZOFFSETFROM:+1000
TZOFFSETTO:+1100
TZNAME:AEDT
DTSTART:20271002T160000
END:DAYLIGHT
END:VTIMEZONE
BEGIN:VEVENT
DTSTART;VALUE=DATE:20260129
DTEND;VALUE=DATE:20261005
DTSTAMP:20260421T202017
CREATED:20260129T052602Z
LAST-MODIFIED:20260311T000522Z
UID:10007918-1769644800-1791158399@www.duralclub.com.au
SUMMARY:NRL Footy Tipping Competition!
DESCRIPTION:Get ready to test your NRL knowledge and compete for some epic prizes with the 2026 PARRA Members NRL Footy Tipping Competition! \nOpen to all Members of Parramatta Leagues Club\, Dural Club and Vikings Sports Club\, this is your chance to go head-to-head with fellow fans all season long for bragging rights – and win some fantastic prizes. \nWhether you’re a die-hard Parramatta Eels supporter or just love following the NRL\, tipping is the perfect way to make every round more exciting. \nPick your winners each week\, climb the leaderboard and see how your footy instincts stack up against other PARRA Members. \nThis year\, we’re raising the stakes with some awesome prizes up for grabs: \n\n1st Prize: $500 Gift Card + a Signed 2026 Parramatta Eels Jersey\n2nd Prize: $250 Gift Card\n3rd Prize: $100 Gift Card\n\nIt’s completely free to enter\, and joining only takes a few minutes to join the competition. \nHow to Join the 2026 PARRA Members Footy Tipping Comp: \n\nGo to https://www.iTipFooty.com.au\nClick REGISTER if you don’t already have an iTipFooty account\nOnce registered\, log in and click JOIN COMP\nEnter Comp #105253 and Password: PARRA2026\nClick Join Comp – and you’re in!\n\nSome general ground rules of the comp: \n\nAll tips must be in by the first game of the round (Keep in mind Thursday games!)\nAll Tipsters will receive one Joker for the season\nTipsters cannot see each other’s tips until the end of the round\n\nThat’s it! You’re ready to start tipping and chasing glory all season long. \nSo gather your footy knowledge\, back your instincts and get involved. \nJoin the 2026 PARRA Members NRL Footy Tipping Competition today and make every try\, tackle and goal count! 🏉
URL:https://www.duralclub.com.au/event/nrl-footy-tipping-competition-2/
CATEGORIES:Special Events
ATTACH;FMTTYPE=image/png:https://www.duralclub.com.au/wp-content/uploads/2026/01/members-tipping.png
END:VEVENT
BEGIN:VEVENT
DTSTART;VALUE=DATE:20260408
DTEND;VALUE=DATE:20260601
DTSTAMP:20260421T202017
CREATED:20260408T073809Z
LAST-MODIFIED:20260415T051725Z
UID:10008135-1775606400-1780271999@www.duralclub.com.au
SUMMARY:Win a $9\,999 Solar System with SipEnergy
DESCRIPTION:Dural Club has partnered with SipEnergy to give members the chance to win big — with a major prize that could power your home for years to come. \n🎉 What You Could Win\n🥇 First Prize (1 Winner) \n\nWin a premium 9.9kW SipEnergy Solar System\, professionally installed on your home or business — valued up to $9\,999\nThis includes:\n\n✅ 27 high-efficiency Tier 1 solar panels✅ Premium inverter technology✅ Professional installation by certified technicians✅ 10-year workmanship warranty✅ Full system monitoring capabilities\n\n\n\n  \n🥈 Second Prize (1 Winner) \n🎟️ $500 Dural Club or Parramatta Leagues Club Shop Gift VoucherRedeemable on food\, beverages\, or experiences at Dural Club or merchandise at the Parramatta Leagues Club Shop. \n  \n🥉 Third Prize (1 Winner) \n🎫 2 x Tickets to a Parramatta Eels Game (2026 Season) \n🎟️ How to Enter \nIf you’re a member\, simply head to the SipEnergy website below to enter for FREE! \n			\n				ENTER NOW\n			\n				\n				\n				\n				\n				👉 Not a member? Join today to enter. \n\n⚡ Why SipEnergy? \nSipEnergy are experts in delivering high-quality solar solutions\, helping households and businesses reduce energy costs while investing in a more sustainable future. \n*T&C’s apply. \nThis promotion is an exclusive offer made available to our members. While we’re pleased to share opportunities that may benefit you\, please be aware that SIP Energy is a third-party provider and operates independently of our Club. \nBy engaging with this offer\, you may be providing your personal information directly to SIP Energy. The Club is not affiliated with SIP Energy and does not take responsibility for their services\, offers\, or how your information is used.
URL:https://www.duralclub.com.au/event/sipenergy/
CATEGORIES:Special Events
ATTACH;FMTTYPE=image/png:https://www.duralclub.com.au/wp-content/uploads/2026/04/SIP-ENERGY-COMP-2.png
END:VEVENT
BEGIN:VEVENT
DTSTART;VALUE=DATE:20260425
DTEND;VALUE=DATE:20260426
DTSTAMP:20260421T202017
CREATED:20260402T032849Z
LAST-MODIFIED:20260402T033158Z
UID:10008121-1777075200-1777161599@www.duralclub.com.au
SUMMARY:Anzac Day
DESCRIPTION:Come together this ANZAC day\nSpend ANZAC Day at Dural Club on Saturday 25 April\, where good food\, refreshing drinks\, and live entertainment come together. \nTake advantage of: \n\nHappy hour from 12pm-2pm with ice-cold $6 house beers\nRefreshing $15 frozen cocktails all day\nAnd our chef’s blackboard specials.\n\n  \nFrom 1pm–5pm\, take part in a traditional game of Two‑Up in the courtyard\, before settling in for live music from 5pm–8pm.
URL:https://www.duralclub.com.au/event/anzac-day/
CATEGORIES:Special Events
ATTACH;FMTTYPE=image/png:https://www.duralclub.com.au/wp-content/uploads/2026/04/DC-Mar2026-WebSquare.png
END:VEVENT
BEGIN:VEVENT
DTSTART;VALUE=DATE:20260503
DTEND;VALUE=DATE:20260504
DTSTAMP:20260421T202017
CREATED:20240906T062818Z
LAST-MODIFIED:20260210T222126Z
UID:10003715-1777766400-1777852799@www.duralclub.com.au
SUMMARY:Village Markets
DESCRIPTION:Join us at Dural Club for our Village Markets\, held every second Sunday. \nStroll through a vibrant collection of talented artisans and stallholders\, each bringing their unique craft\, creativity\, and a touch of magic. Discover beautiful handmade pieces\, delicious eats\, fresh produce\, specialty goods\, and those irresistible finds you can only get from passionate local makers. \nBrowse local stalls\, discover handmade goods\, enjoy fresh finds\, and soak up the relaxed community atmosphere. \nTime: 9am – 2pm. Every second Sunday  \nIt’s the perfect way to spend a Sunday — support local\, grab a coffee\, and enjoy a stroll through the markets.
URL:https://www.duralclub.com.au/event/village-markets/2026-05-03/
CATEGORIES:Special Events
ATTACH;FMTTYPE=image/png:https://www.duralclub.com.au/wp-content/uploads/2024/09/2-OYSTERS-12.png
END:VEVENT
BEGIN:VEVENT
DTSTART;VALUE=DATE:20260510
DTEND;VALUE=DATE:20260511
DTSTAMP:20260421T202017
CREATED:20260326T065248Z
LAST-MODIFIED:20260330T020521Z
UID:10008098-1778371200-1778457599@www.duralclub.com.au
SUMMARY:Mother's Day at Dural Club
DESCRIPTION:If you are not redirected automatically\,click here. \n 
URL:https://www.duralclub.com.au/event/mothers-day-2026/
CATEGORIES:Special Events
ATTACH;FMTTYPE=image/jpeg:https://www.duralclub.com.au/wp-content/uploads/2026/03/Mothers-Day-Generic-Web-Square-600-x-600-px.jpg
END:VEVENT
END:VCALENDAR