




BEGIN:VCALENDAR
VERSION:2.0
PRODID:-//Dural Club - ECPv6.15.16.1//NONSGML v1.0//EN
CALSCALE:GREGORIAN
METHOD:PUBLISH
X-ORIGINAL-URL:https://www.duralclub.com.au
X-WR-CALDESC:Events for Dural Club
REFRESH-INTERVAL;VALUE=DURATION:PT1H
X-Robots-Tag:noindex
X-PUBLISHED-TTL:PT1H
BEGIN:VTIMEZONE
TZID:Australia/Melbourne
BEGIN:STANDARD
TZOFFSETFROM:+1100
TZOFFSETTO:+1000
TZNAME:AEST
DTSTART:20230401T160000
END:STANDARD
BEGIN:DAYLIGHT
TZOFFSETFROM:+1000
TZOFFSETTO:+1100
TZNAME:AEDT
DTSTART:20230930T160000
END:DAYLIGHT
BEGIN:STANDARD
TZOFFSETFROM:+1100
TZOFFSETTO:+1000
TZNAME:AEST
DTSTART:20240406T160000
END:STANDARD
BEGIN:DAYLIGHT
TZOFFSETFROM:+1000
TZOFFSETTO:+1100
TZNAME:AEDT
DTSTART:20241005T160000
END:DAYLIGHT
BEGIN:STANDARD
TZOFFSETFROM:+1100
TZOFFSETTO:+1000
TZNAME:AEST
DTSTART:20250405T160000
END:STANDARD
BEGIN:DAYLIGHT
TZOFFSETFROM:+1000
TZOFFSETTO:+1100
TZNAME:AEDT
DTSTART:20251004T160000
END:DAYLIGHT
BEGIN:STANDARD
TZOFFSETFROM:+1100
TZOFFSETTO:+1000
TZNAME:AEST
DTSTART:20260404T160000
END:STANDARD
BEGIN:DAYLIGHT
TZOFFSETFROM:+1000
TZOFFSETTO:+1100
TZNAME:AEDT
DTSTART:20261003T160000
END:DAYLIGHT
BEGIN:STANDARD
TZOFFSETFROM:+1100
TZOFFSETTO:+1000
TZNAME:AEST
DTSTART:20270403T160000
END:STANDARD
BEGIN:DAYLIGHT
TZOFFSETFROM:+1000
TZOFFSETTO:+1100
TZNAME:AEDT
DTSTART:20271002T160000
END:DAYLIGHT
END:VTIMEZONE
BEGIN:VEVENT
DTSTART;TZID=Australia/Melbourne:20260422T150000
DTEND;TZID=Australia/Melbourne:20260422T180000
DTSTAMP:20260422T183413
CREATED:20250212T231305Z
LAST-MODIFIED:20260401T232017Z
UID:10005741-1776870000-1776880800@www.duralclub.com.au
SUMMARY:Happy Hour
DESCRIPTION:Join us for Happy Hour\, Monday to Friday from 3pm to 6pm! Enjoy $6 house beers. \nIt’s the perfect way to unwind after a long day or catch up with mates. \nDon’t miss out on these unbeatable deals—see you at the bar! \n*T&Cs Apply. Dural Club practices the responsible service of alcohol. Available for participating schooners of tap beer only. Subject to change and availability.
URL:https://www.duralclub.com.au/event/happy-hour/2026-04-22/
CATEGORIES:Weekly Activities
ATTACH;FMTTYPE=image/png:https://www.duralclub.com.au/wp-content/uploads/2025/02/DC-Mar2026-HappyHour-WebSquare.png
END:VEVENT
BEGIN:VEVENT
DTSTART;TZID=Australia/Melbourne:20260417T183000
DTEND;TZID=Australia/Melbourne:20260417T210000
DTSTAMP:20260422T183413
CREATED:20250216T215909Z
LAST-MODIFIED:20250729T011440Z
UID:10003234-1776450600-1776459600@www.duralclub.com.au
SUMMARY:APL Poker
DESCRIPTION:Get ready to shuffle up and deal\, with our Poker tournament held every Friday night. Entry is just $20 and there’s a chance to win a guaranteed prize pool of $1\,000. Whether you’re a seasoned pro or just starting out\, all skill levels are welcome! \n\nEvery Friday\n6:30pm Registration\n7:00pm Start\nEntry $20 for 25K chips\n$20 unlimited re-entry & $20 add on break\n\nT&Cs apply. Must be a member of APL\, which is free to join. By registering you agree to follow the player charter as set out on the APL website.
URL:https://www.duralclub.com.au/event/apl-poker-2/2026-04-17/
CATEGORIES:Weekly Activities
ATTACH;FMTTYPE=image/jpeg:https://www.duralclub.com.au/wp-content/uploads/2024/08/DC-WhatsOn-Poker.jpg
END:VEVENT
BEGIN:VEVENT
DTSTART;TZID=Australia/Melbourne:20260417T170000
DTEND;TZID=Australia/Melbourne:20260417T193000
DTSTAMP:20260422T183413
CREATED:20240815T050629Z
LAST-MODIFIED:20251221T235334Z
UID:10002973-1776445200-1776454200@www.duralclub.com.au
SUMMARY:MEAT RAFFLE
DESCRIPTION:Join us every Friday night from 5pm for your chance to WIN premium cut meat trays! How to Participate: \nVisit the Club every Friday from 5pm to purchase your raffle tickets from the bar.\nAt 7pm\, the draw will commence\, and if your number gets called out\, you’ll be heading home with a feast fit for a king (or queen). \nOur top-notch meat trays boast a selection of prime beef\, tender chicken\, succulent pork\, and more! Don’t forget\, the more tickets you buy\, the greater your chances of winning. \nHoliday Raffle Schedule 🎄\nWe’re adding a festive twist in December with our Ham Raffles — perfect for your Christmas table! \n\n\n– Fri 26 Dec: No Raffle (Boxing Day) \n\n\n– Fri 2 Jan: No Raffle (New Year Break) \n\n\n– Fri 9 Jan: Regular Meat Raffles resume \n\n\n  \nT&Cs available. See staff for details. Subject to change and availability.
URL:https://www.duralclub.com.au/event/meat-raffle-2/2026-04-17/
CATEGORIES:Weekly Activities
ATTACH;FMTTYPE=image/jpeg:https://www.duralclub.com.au/wp-content/uploads/2024/08/DC-WhatsOn-Raffle.jpg
END:VEVENT
BEGIN:VEVENT
DTSTART;TZID=Australia/Melbourne:20260416T183000
DTEND;TZID=Australia/Melbourne:20260416T220000
DTSTAMP:20260422T183413
CREATED:20240815T050335Z
LAST-MODIFIED:20260306T033647Z
UID:10003494-1776364200-1776376800@www.duralclub.com.au
SUMMARY:THURSDAY TRIVIA
DESCRIPTION:Test your knowledge and have a blast every Thursday night at our FREE weekly Trivia event! Time: Registration – 6.30pm | Starts – 7:00pm Gather your brainy buddies and join us for a thrilling evening filled with mind-boggling general knowledge questions and loads of fun! Play to win BIG! Up to $250 in prizes await the sharpest minds in the room! \nHow to join: \n1. Form a team (or fly solo if you dare!). \n2. Grab a drink and a bite to eat\, and get ready to answer a variety of intriguing trivia questions \n3. Compete against other teams and prove you’re the ultimate trivia champions! Don’t miss out on the excitement! Whether you’re a seasoned quizmaster or just a curious soul\, our weekly Trivia Night is the perfect place to challenge your brain and have a great time with friends. *T&Cs apply. See staff for details. Subject to change.
URL:https://www.duralclub.com.au/event/trivia/2026-04-16/
CATEGORIES:Weekly Activities
ATTACH;FMTTYPE=image/jpeg:https://www.duralclub.com.au/wp-content/uploads/2024/08/DC-WhatsOn-Trivia.jpg
END:VEVENT
BEGIN:VEVENT
DTSTART;TZID=Australia/Melbourne:20250707T080000
DTEND;TZID=Australia/Melbourne:20251029T203000
DTSTAMP:20260422T183413
CREATED:20250704T063712Z
LAST-MODIFIED:20250704T063846Z
UID:10007077-1751875200-1761769800@www.duralclub.com.au
SUMMARY:Kids Eat Free at Dural Kitchen
DESCRIPTION:Treat the whole family to a delicious meal without breaking the bank! At Dural Kitchen\, kids eat FREE every Monday to Wednesday when you purchase any adult meal over $20. \nWhether you’re craving a midweek catch-up or a fuss-free dinner out\, we’ve got something for everyone – and the little ones will love our tasty kids’ menu. \nNo need to cook. No need to clean. Just great food and happy kids. \nAvailable for lunch and dinner. One free kids’ meal per adult meal purchased over $20. T&Cs apply.
URL:https://www.duralclub.com.au/event/kids-eat-free-at-dural-kitchen/
CATEGORIES:Weekly Activities
ATTACH;FMTTYPE=image/jpeg:https://www.duralclub.com.au/wp-content/uploads/2025/07/Kids-eat-free-DK.jpg
END:VEVENT
BEGIN:VEVENT
DTSTART;VALUE=DATE:20241220
DTEND;VALUE=DATE:20241221
DTSTAMP:20260422T183413
CREATED:20241114T060858Z
LAST-MODIFIED:20241218T050320Z
UID:10005172-1734652800-1734739199@www.duralclub.com.au
SUMMARY:Christmas Meat Raffle
DESCRIPTION:Get ready to bring home the holiday spirit with our Christmas Meat Raffle!\nWin juicy Christmas hams and premium meat trays to make your celebrations extra special. Perfect for sharing with family and friends around the table! \nTickets on Sale: Every Friday \nDrawn: From 7pm in the main lounge area \nDates: November 29\, December 6\, December 13\, & December 20.\n \nYou have to be in it to win it! Don’t miss out on your chance to stock up on delicious holiday meats! \n*T&Cs available at reception. Subject to change.
URL:https://www.duralclub.com.au/event/christmas-meat-raffle/
CATEGORIES:Weekly Activities
ATTACH;FMTTYPE=image/jpeg:https://www.duralclub.com.au/wp-content/uploads/2024/11/VSC-Meat-Raffle-WebSQ.jpg
END:VEVENT
END:VCALENDAR